BEGIN:VCALENDAR
VERSION:2.0
PRODID:http://bistummainz.de
BEGIN:VEVENT
UID:bee633bd-7ea0-11f0-b9fa-0242ac11002b-1780846200000-de
DTSTAMP:20250821T150851Z
DTSTART:20260607T153000Z
DTEND:20260611T090000Z
SUMMARY;LANGUAGE=de:Wanderexerzitien im Vogelsberg - Unterwegs mit Gott
DESCRIPTION;LANGUAGE=de:Der gleichmäßige Schritt der Füße\, der Verzicht auf das Reden\, das Spüren des Leibes in Bewegung\, das Hören auf sich selbst und die Achtsamkeit für die Natur helfen bei einem neuen Zugang zu Gottes Nähe.
LOCATION;LANGUAGE=de:Vogelsbergdorf - Kolping-Fereindorf\, Adolph-Kolping-Str. 22 \, 36358 Herbstein
IMAGE;VALUE=URI;DISPLAY=BADGE;FMTTYPE=image/jpeg:http://bistummainz.de/export/sites/bistum/glaube/institut-spiritualitaet/.galleries/bilder/Ruhiger-Schritt.JPG
END:VEVENT
END:VCALENDAR
