BEGIN:VCALENDAR
VERSION:2.0
PRODID:http://bistummainz.de
BEGIN:VEVENT
UID:c01ee424-3cab-11f1-b8c9-0242ac11002b-1778518800000-de
DTSTAMP:20260420T112618Z
DTSTART:20260511T170000Z
DTEND:20260511T180000Z
SUMMARY;LANGUAGE=de:Netzwerktreffen für Pfarrbrief-Redaktionen
DESCRIPTION;LANGUAGE=de:Die ersten Pfarrbrief-Redaktionen sind ins neue Pfarrbriefportal gestartet - wie sind die Erfahrungen? Wo wird Unterstützung gesucht? Was gibt es Neues? Welche Tipps und Tricks? Welche Fragen haben sich ergeben?\nDas Netzwerk-Treffen bietet in regelmäßigen Abständen das Angebot zum Austausch.\nHerzliche Einladung!
IMAGE;VALUE=URI;DISPLAY=BADGE;FMTTYPE=image/jpeg:http://bistummainz.de/export/sites/bistum/pressemedien/bistumsnetzwerk-kommunikation/.galleries/bilder/PEIQ.jpg
END:VEVENT
END:VCALENDAR
