BEGIN:VCALENDAR
VERSION:2.0
PRODID:http://bistummainz.de
BEGIN:VEVENT
UID:c540309a-05af-11f1-bae7-0242ac11002b-1778345100000-de
DTSTAMP:20260209T120631Z
DTSTART:20260509T164500Z
DTEND:20260509T174500Z
SUMMARY;LANGUAGE=de:Dämmerschoppen nach dem Gottesdienst
DESCRIPTION;LANGUAGE=de:Beginn nach dem Gottesdienst. Diesen feiern wir um 18.00 Uhr in der Kirche.
LOCATION;LANGUAGE=de:St. Elisabeth\, Richard-Wagner-Str. 73\, 63069 Offenbach\, Deutschland
END:VEVENT
END:VCALENDAR
