BEGIN:VCALENDAR
VERSION:2.0
PRODID:http://bistummainz.de
BEGIN:VEVENT
UID:ca8d70bc-f632-11f0-bae7-0242ac11002b-1778675400000-de
DTSTAMP:20260120T190405Z
DTSTART:20260513T123000Z
DTEND:20260513T143000Z
SUMMARY;LANGUAGE=de:Seniorentreff Ockenheim
LOCATION;LANGUAGE=de:Ockenheim\, Georg-Weingärtner-Haus\, Mainzer Str. 41\, 55437 Ockenheim\, Deutschland
END:VEVENT
END:VCALENDAR
