BEGIN:VCALENDAR
VERSION:2.0
PRODID:http://bistummainz.de
BEGIN:VEVENT
UID:cfb460e1-04e6-11f1-bae7-0242ac11002b-1777129200000-de
DTSTAMP:20260208T120759Z
DTSTART:20260425T150000Z
DTEND:20260425T160000Z
SUMMARY;LANGUAGE=de:Bücherei Wortschatz (KÖB) geöffnet
DESCRIPTION;LANGUAGE=de:Mehr dazu online: https://bistummainz.de/buecherei/hoechst/
LOCATION;LANGUAGE=de:Höchst\, Böltener Straße 14\, 64739 Höchst\, Deutschland
END:VEVENT
END:VCALENDAR
