BEGIN:VCALENDAR
VERSION:2.0
PRODID:http://bistummainz.de
BEGIN:VEVENT
UID:d0b29921-2f84-11f1-b8c9-0242ac11002b-1776412800000-de
DTSTAMP:20260403T174450Z
DTSTART:20260417T080000Z
DTEND:20260417T160000Z
SUMMARY;LANGUAGE=de:KDFB Second-Hand-Basar: Verkauf
DESCRIPTION;LANGUAGE=de:Verkauf von Kleidung\, Büchern\, CDs\, Geschirr und mehr - Kontakt: 0178 498 1898
END:VEVENT
END:VCALENDAR
