BEGIN:VCALENDAR
VERSION:2.0
PRODID:http://bistummainz.de
BEGIN:VEVENT
UID:d87666d9-dab1-11f0-b704-0242ac11002b-1786028400000-de
DTSTAMP:20251216T190302Z
DTSTART:20260806T150000Z
DTEND:20260806T170000Z
SUMMARY;LANGUAGE=de:Grillen des ökum. Seniorenkreises in der Neugasse 24
LOCATION;LANGUAGE=de:Friesenheim\, Hauptstraße\, 27\, 55278 Friesenheim\, Deutschland
END:VEVENT
END:VCALENDAR
