BEGIN:VCALENDAR
VERSION:2.0
PRODID:http://bistummainz.de
BEGIN:VEVENT
UID:da3adeb6-02c5-11f1-bae7-0242ac11002b-1776864600000-de
DTSTAMP:20260205T190701Z
DTSTART:20260422T133000Z
DTEND:20260422T150000Z
SUMMARY;LANGUAGE=de:Bücherei "Lesespaß" geöffnet
DESCRIPTION;LANGUAGE=de:Mehr dazu online: https://www.Koeb-Michelstadt.de
LOCATION;LANGUAGE=de:Michelstadt\, d´Orvillestrasse 22a\, 64720 Michelstadt\, Deutschland
END:VEVENT
END:VCALENDAR
