BEGIN:VCALENDAR
VERSION:2.0
PRODID:http://bistummainz.de
BEGIN:VEVENT
UID:daba2367-1d5a-11f1-bae7-0242ac11002b-1779127200000-de
DTSTAMP:20260311T145907Z
DTSTART:20260518T180000Z
SUMMARY;LANGUAGE=de:Dibbojer Gebabbel
DESCRIPTION;LANGUAGE=de:Der Mundartfreund Karlheinz Braun schwätzt Dibbojer Dialekt
LOCATION;LANGUAGE=de:Pater-Delp-Haus\, Dieburg\, Steinstraße 5\, 64807 Dieburg
IMAGE;VALUE=URI;DISPLAY=BADGE;FMTTYPE=image/jpeg:http://bistummainz.de/export/sites/bistum/region-suedhessen/pfarrei/dieburger-land/.galleries/bilder/St.-Peter-und-Paul-Dieburg/Logo-Kolpingfamilie.jpg
END:VEVENT
END:VCALENDAR
