BEGIN:VCALENDAR
VERSION:2.0
PRODID:http://bistummainz.de
BEGIN:VEVENT
UID:e1b1a174-04e6-11f1-bae7-0242ac11002b-1777798800000-de
DTSTAMP:20260208T120830Z
DTSTART:20260503T090000Z
DTEND:20260503T100000Z
SUMMARY;LANGUAGE=de:Bücherei Wortschatz (KÖB) geöffnet
DESCRIPTION;LANGUAGE=de:Mehr dazu online: https://bistummainz.de/buecherei/hoechst/
LOCATION;LANGUAGE=de:Höchst\, Böltener Straße 14\, 64739 Höchst\, Deutschland
END:VEVENT
END:VCALENDAR
