BEGIN:VCALENDAR
VERSION:2.0
PRODID:http://bistummainz.de
BEGIN:VEVENT
UID:e850d1b7-188a-11f1-bae7-0242ac11002b-1777989600000-de
DTSTAMP:20260305T120030Z
DTSTART:20260505T140000Z
DTEND:20260505T170000Z
SUMMARY;LANGUAGE=de:Kfd Losch - Führung Päoniengarten
END:VEVENT
END:VCALENDAR
