BEGIN:VCALENDAR
VERSION:2.0
PRODID:http://bistummainz.de
BEGIN:VEVENT
UID:f5e4d67f-3cb8-11f1-b8c9-0242ac11002b-1789023600000-de
DTSTAMP:20260420T130052Z
DTSTART:20260910T070000Z
DTEND:20260913T180000Z
SUMMARY;LANGUAGE=de:Buchenwald und Weimar heute: Was hat NS mit mir zu tun?
DESCRIPTION;LANGUAGE=de:Gedenkstättenfahrt\nBuchenwald und Weimar heute: Was hat NS mit mir zu tun?\nWann: Do. 10.9. bis So. 13.09.2026\nWo: Gedenkstätte Buchenwald und Weimar\nWer: Jugendliche und junge Erwachsene zwischen 15 und 23 Jahren.\nKosten: 50 EUR inkl. Programm\, Unterkunft im Mehrbettzimmer\, Verpflegung und Fahrtkosten (Förderung ist möglich)\nWir fahren nach Weimar und Buchenwald. Nicht\, um belehrt zu werden\, sondern um selbst zu entdecken. Was bedeutet es\, an einem Ort zu stehen\, an dem Menschen gefoltert\, ausgebeutet und ermordet wurden? Und was hat das mit uns zu tun – heute\, in einer Welt\, in der rechtsradikale Gewalt wieder zunimmt?\nWas wir machen\nIn der Gedenkstätte und in Weimar suchen nach wir Spuren. Nicht nur im Boden\, in den Mauern\, in den Dokumenten – sondern auch in uns selbst.\nHinschauen: Was geschah hier? Nicht als trockene Fakten\, sondern als reale Geschichte von Menschen\, die litten\, widerstanden\, taten\, schwiegen.\nNachfragen: Warum passierte das? Wie konnte es dazu kommen? Und was sagt das über uns aus?\nVerbinden: Welche Parallelen gibt es heute? Wo sehen wir ähnliche Muster – in der Politik\, in der Gesellschaft\, im Alltag?\nDiskutieren: Ohne fertige Antworten. Mit Raum für deine Perspektive\, deine Zweifel\, deine Gedanken.\nWarum das wichtig ist\nRechtsextreme Gewalt nimmt wieder zu. Rechte Ideologien verbreiten sich. In einer Gesellschaft\, die von ihrer Vielfältigkeit lebt. Genau deshalb zählt Erinnerung nicht als Pflichtübung – sondern als Werkzeug\, um heute besser zu verstehen.\nHinweis: Vor dem Seminar treffen wir uns\, um uns auf die Fahrt vorzubereiten und erste Fragen zu stellen.\nInformationen zur Barrierefreiheit: Es gibt rollstuhlgerechte und barrierearme Zimmer. Das Gelände vor Ort bringt einige Barrieren mit sich. Deshalb meldet euch gerne\, wenn hierzu Fragen habt: hanne.kleinemas@bistum-mainz.de
IMAGE;VALUE=URI;DISPLAY=BADGE;FMTTYPE=image/jpeg:http://bistummainz.de/export/sites/bistum/jugend/vor-ort/kjb-suedhessen/.galleries/Veranstaltungen-2026/Gedenkstaette_Buchenwald_Eingang_buchenwald-de.jpg
END:VEVENT
END:VCALENDAR
