BEGIN:VCALENDAR
VERSION:2.0
PRODID:http://bistummainz.de
BEGIN:VEVENT
UID:f99af3d0-3ca8-11f1-b8c9-0242ac11002b-1781301600000-de
DTSTAMP:20260420T110626Z
DTSTART:20260612T220000Z
DTEND:20260615T220000Z
SUMMARY;LANGUAGE=de:CHORatorium „Wir sind Franziskus“
DESCRIPTION;LANGUAGE=de:CHORatorium über das Leben des Heiligen Franziskus
LOCATION;LANGUAGE=de:St. Josef\, Brüder-Grimm-Str. 1\, 63069 Offenbach\, Deutschland
END:VEVENT
END:VCALENDAR
